BEGIN:VCALENDAR
VERSION:2.0
PRODID:-//Plone.org//NONSGML plone.app.event//EN
X-WR-TIMEZONE:Europe/Madrid
BEGIN:VEVENT
SUMMARY:Menudo tremendo amb Txo titelles
DTSTART;TZID=Europe/Madrid;VALUE=DATE-TIME:20060710T180000
DTEND;TZID=Europe/Madrid;VALUE=DATE-TIME:20060710T190000
DTSTAMP;VALUE=DATE-TIME:20260420T120530Z
UID:c425cec1c13f84eaec57fbafaf418f13
CREATED;VALUE=DATE-TIME:20060710T000000Z
CATEGORIES:Infantils
LOCATION:Parc de Lurdes
ORGANIZER:Regidoria de Cultura i Binixiflat Teatre  Col·labora: Patronat de Lurdes
COMMENT:Durada: també a les 19:15 i a les 20:30
DESCRIPTION:11a Mostra de Titelles
URL:https://arenysdemar.cat/document.php?id=15886
END:VEVENT
END:VCALENDAR