BEGIN:VCALENDAR
VERSION:2.0
PRODID:-//Plone.org//NONSGML plone.app.event//EN
X-WR-TIMEZONE:Europe/Madrid
BEGIN:VEVENT
SUMMARY:Contes la mar de salats
DTSTART;TZID=Europe/Madrid;VALUE=DATE-TIME:20060608T180000
DTEND;TZID=Europe/Madrid;VALUE=DATE-TIME:20060608T190000
DTSTAMP;VALUE=DATE-TIME:20260423T232422Z
UID:c206b9a669114b52b26611d5f046663f
CREATED;VALUE=DATE-TIME:20060608T000000Z
CATEGORIES:Infantils
LOCATION:Biblioteca
ORGANIZER:Biblioteca - Regidoria de Cultura
DESCRIPTION:a càrrec de Jep Gasulla
URL:https://arenysdemar.cat/document.php?id=15890
END:VEVENT
END:VCALENDAR