BEGIN:VCALENDAR
VERSION:2.0
PRODID:-//Plone.org//NONSGML plone.app.event//EN
X-WR-TIMEZONE:Europe/Madrid
BEGIN:VEVENT
SUMMARY:Ball popular
DTSTART;TZID=Europe/Madrid;VALUE=DATE-TIME:20060814T235900
DTEND;TZID=Europe/Madrid;VALUE=DATE-TIME:20060815T005900
DTSTAMP;VALUE=DATE-TIME:20260420T161138Z
UID:fe63e7af42ffbd716e309bfdf6bd84d1
CREATED;VALUE=DATE-TIME:20060814T000000Z
CATEGORIES:Festa
LOCATION:Aparcament de la platja de la Picòrdia
ORGANIZER:Regidoria de Cultura
DESCRIPTION:amb la Salseta del Poble Sec
URL:https://arenysdemar.cat/document.php?id=15902
END:VEVENT
END:VCALENDAR