BEGIN:VCALENDAR
VERSION:2.0
PRODID:-//Plone.org//NONSGML plone.app.event//EN
X-WR-TIMEZONE:Europe/Madrid
BEGIN:VEVENT
SUMMARY:Conferència de l'Edat Mitjana
DTSTART;TZID=Europe/Madrid;VALUE=DATE-TIME:20060502T180000
DTEND;TZID=Europe/Madrid;VALUE=DATE-TIME:20060502T190000
DTSTAMP;VALUE=DATE-TIME:20260421T124914Z
UID:c3c95607a5481245d1d9313998bfc2ff
CREATED;VALUE=DATE-TIME:20060502T000000Z
CATEGORIES:Conferència
LOCATION:Calisay/Sala J.M. Arnau
ORGANIZER:Aula d'Extensió Universitària
DESCRIPTION:Els pecats capitals a l'Edat Mitjana, a càrrec de Mercè Aventín de la Universitat de Barcelona
URL:https://arenysdemar.cat/document.php?id=15953
END:VEVENT
END:VCALENDAR