BEGIN:VCALENDAR
VERSION:2.0
PRODID:-//Plone.org//NONSGML plone.app.event//EN
X-WR-TIMEZONE:Europe/Madrid
BEGIN:VEVENT
SUMMARY:Conferència de Lingüística
DTSTART;TZID=Europe/Madrid;VALUE=DATE-TIME:20060516T180000
DTEND;TZID=Europe/Madrid;VALUE=DATE-TIME:20060516T190000
DTSTAMP;VALUE=DATE-TIME:20260424T043341Z
UID:5ebd1bb36f43f181db1ebd54366335f5
CREATED;VALUE=DATE-TIME:20060516T000000Z
CATEGORIES:Conferència
LOCATION:Calisay/Sala J.M. Arnau
ORGANIZER:Aula d'Extensió Universitària
DESCRIPTION:Llengües i visió del món, a càrrec de M. Carme Junyent de la Universitat de Barcelona
URL:https://arenysdemar.cat/document.php?id=15955
END:VEVENT
END:VCALENDAR