BEGIN:VCALENDAR
VERSION:2.0
PRODID:-//Plone.org//NONSGML plone.app.event//EN
X-WR-TIMEZONE:Europe/Madrid
BEGIN:VEVENT
SUMMARY:Conferència d'Història i Art
DTSTART;TZID=Europe/Madrid;VALUE=DATE-TIME:20060523T180000
DTEND;TZID=Europe/Madrid;VALUE=DATE-TIME:20060523T190000
DTSTAMP;VALUE=DATE-TIME:20260420T205333Z
UID:eb55869d3cd19d705bd5a7ca55524e90
CREATED;VALUE=DATE-TIME:20060523T000000Z
CATEGORIES:Conferència
LOCATION:Calisay/Sala J.M. Arnau
ORGANIZER:Aula d'Extensió Universitària
DESCRIPTION:Conèixer el patrimoni mundial de la UNESCO, a càrrec d'Àngel Morillas, historiador i coordinador Patrimoni de la UNESCO
URL:https://arenysdemar.cat/document.php?id=15956
END:VEVENT
END:VCALENDAR