BEGIN:VCALENDAR
VERSION:2.0
PRODID:-//Plone.org//NONSGML plone.app.event//EN
X-WR-TIMEZONE:Europe/Madrid
BEGIN:VEVENT
SUMMARY:Audició.Obres de Joaquim Homs. Inspirades en textos de Rabindranath Tagore i Paul Valéry
DTSTART;TZID=Europe/Madrid;VALUE=DATE-TIME:20060506T190000
DTEND;TZID=Europe/Madrid;VALUE=DATE-TIME:20060506T200000
DTSTAMP;VALUE=DATE-TIME:20260421T184523Z
UID:aa8d3a4ae6725ff6e8db27a8d9bc1497
CREATED;VALUE=DATE-TIME:20060506T000000Z
CATEGORIES:Música,Conferència
LOCATION:Calisay/Sala Noble
ORGANIZER:Centre d'Estudis Josep Baralt i Escola de Música
DESCRIPTION:Oriol Romaní, clarinet i Anna Maluquer, recitat
URL:https://arenysdemar.cat/document.php?id=15958
END:VEVENT
END:VCALENDAR