BEGIN:VCALENDAR
VERSION:2.0
PRODID:-//Plone.org//NONSGML plone.app.event//EN
X-WR-TIMEZONE:Europe/Madrid
BEGIN:VEVENT
SUMMARY:Descoberta del Sot de l'Oradella
DTSTART;TZID=Europe/Madrid;VALUE=DATE-TIME:20060514T090000
DTEND;TZID=Europe/Madrid;VALUE=DATE-TIME:20060514T100000
DTSTAMP;VALUE=DATE-TIME:20260420T204142Z
UID:a15342d329db4e18e876ae3b2d88d57c
CREATED;VALUE=DATE-TIME:20060514T000000Z
CATEGORIES:Esports
LOCATION:davant del Calisay
ORGANIZER:Arenys Sostenible i Muntanyencs de la Vila
URL:https://arenysdemar.cat/document.php?id=15959
END:VEVENT
END:VCALENDAR