BEGIN:VCALENDAR
VERSION:2.0
PRODID:-//Plone.org//NONSGML plone.app.event//EN
X-WR-TIMEZONE:Europe/Madrid
BEGIN:VEVENT
SUMMARY:Ball a l'Ateneu
DTSTART;TZID=Europe/Madrid;VALUE=DATE-TIME:20060506T223000
DTEND;TZID=Europe/Madrid;VALUE=DATE-TIME:20060506T233000
DTSTAMP;VALUE=DATE-TIME:20260424T030616Z
UID:2b1968314032adc16b9b12240b0b238f
CREATED;VALUE=DATE-TIME:20060506T000000Z
CATEGORIES:Música
LOCATION:a l'Ateneu Arenyenc
ORGANIZER:Ateneu Arenyenc
DESCRIPTION:amb el grup Què Tal
URL:https://arenysdemar.cat/document.php?id=15981
END:VEVENT
END:VCALENDAR