BEGIN:VCALENDAR
VERSION:2.0
PRODID:-//Plone.org//NONSGML plone.app.event//EN
X-WR-TIMEZONE:Europe/Madrid
BEGIN:VEVENT
SUMMARY:Presentació de l'acte i la campanya Estima't, defensa el Català
DTSTART;TZID=Europe/Madrid;VALUE=DATE-TIME:20060513T173000
DTEND;TZID=Europe/Madrid;VALUE=DATE-TIME:20060513T183000
DTSTAMP;VALUE=DATE-TIME:20260420T204007Z
UID:fbd74b0ef74854bba7de0e36eb58d9bc
CREATED;VALUE=DATE-TIME:20060513T000000Z
CATEGORIES:Conferència
LOCATION:Calisay/Sala J.M. Arnau
ORGANIZER:Plataforma per la Llengua
COMMENT:Preu: lliure
DESCRIPTION:Presentació del llibre "L'Èric i l'exèrcit del Fènix
URL:https://arenysdemar.cat/document.php?id=16000
END:VEVENT
END:VCALENDAR