BEGIN:VCALENDAR
VERSION:2.0
PRODID:-//Plone.org//NONSGML plone.app.event//EN
X-WR-TIMEZONE:Europe/Madrid
BEGIN:VEVENT
SUMMARY:Gimcana per la llengua
DTSTART;TZID=Europe/Madrid;VALUE=DATE-TIME:20060513T163000
DTEND;TZID=Europe/Madrid;VALUE=DATE-TIME:20060513T173000
DTSTAMP;VALUE=DATE-TIME:20260421T010224Z
UID:cece7907f9928c64a1c14f40080457ed
CREATED;VALUE=DATE-TIME:20060513T000000Z
CATEGORIES:Infantils
LOCATION:Calisay/Sala Polivalent
ORGANIZER:Plataforma per la Llengua
COMMENT:Preu: lliure
URL:https://arenysdemar.cat/document.php?id=16005
END:VEVENT
END:VCALENDAR