BEGIN:VCALENDAR
VERSION:2.0
PRODID:-//Plone.org//NONSGML plone.app.event//EN
X-WR-TIMEZONE:Europe/Madrid
BEGIN:VEVENT
SUMMARY:Xocolatada
DTSTART;TZID=Europe/Madrid;VALUE=DATE-TIME:20060513T173000
DTEND;TZID=Europe/Madrid;VALUE=DATE-TIME:20060513T183000
DTSTAMP;VALUE=DATE-TIME:20260421T010507Z
UID:233a2dddf8607721ff13e1b282ad4065
CREATED;VALUE=DATE-TIME:20060513T000000Z
CATEGORIES:Infantils
LOCATION:Calisay/Sala Polivalent
ORGANIZER:Plataforma per la Llengua
COMMENT:Preu: lliure
URL:https://arenysdemar.cat/document.php?id=16006
END:VEVENT
END:VCALENDAR