BEGIN:VCALENDAR
VERSION:2.0
PRODID:-//Plone.org//NONSGML plone.app.event//EN
X-WR-TIMEZONE:Europe/Madrid
BEGIN:VEVENT
SUMMARY:Fira de productes artesanals
DTSTART;TZID=Europe/Madrid;VALUE=DATE-TIME:20060513T110000
DTEND;TZID=Europe/Madrid;VALUE=DATE-TIME:20060513T120000
DTSTAMP;VALUE=DATE-TIME:20260423T145450Z
UID:d1a7f741fe9b285330e90b8ddf5f8563
CREATED;VALUE=DATE-TIME:20060513T000000Z
CATEGORIES:Mostra
LOCATION:Calisay/Pati
ORGANIZER:Plataforma per la Llengua
COMMENT:Preu: lliure
URL:https://arenysdemar.cat/document.php?id=16008
END:VEVENT
END:VCALENDAR