BEGIN:VCALENDAR
VERSION:2.0
PRODID:-//Plone.org//NONSGML plone.app.event//EN
X-WR-TIMEZONE:Europe/Madrid
BEGIN:VEVENT
SUMMARY:Espectacle pirotècnic i de percussió
DTSTART;TZID=Europe/Madrid;VALUE=DATE-TIME:20060513T220000
DTEND;TZID=Europe/Madrid;VALUE=DATE-TIME:20060513T230000
DTSTAMP;VALUE=DATE-TIME:20260420T164944Z
UID:0c52dfb2f7362e5218820d1a6bf1d6fa
CREATED;VALUE=DATE-TIME:20060513T000000Z
CATEGORIES:Festa
LOCATION:Calisay/Pati
ORGANIZER:Plataforma per la Llengua
COMMENT:Preu: lliure
URL:https://arenysdemar.cat/document.php?id=16009
END:VEVENT
END:VCALENDAR