BEGIN:VCALENDAR
VERSION:2.0
PRODID:-//Plone.org//NONSGML plone.app.event//EN
X-WR-TIMEZONE:Europe/Madrid
BEGIN:VEVENT
SUMMARY:Presentació del llibre Història i llegendes del Mont Calvari d'Arenys de Mar
DTSTART;TZID=Europe/Madrid;VALUE=DATE-TIME:20060709T233000
DTEND;TZID=Europe/Madrid;VALUE=DATE-TIME:20060710T003000
DTSTAMP;VALUE=DATE-TIME:20260421T011142Z
UID:108f1acfc95422b48edc7c08e81758fd
CREATED;VALUE=DATE-TIME:20060709T000000Z
CATEGORIES:Literatura
LOCATION:Jardins de l'ermita del Mont Calvari
ORGANIZER:Comunitat de veïns del Mont Calvari. Amb el suport d'Acesa i de l'Ajuntament d'Arenys de Mar
DESCRIPTION:Obra de l'autora arenyenca Tiona Solé
URL:https://arenysdemar.cat/document.php?id=16015
END:VEVENT
END:VCALENDAR