BEGIN:VCALENDAR
VERSION:2.0
PRODID:-//Plone.org//NONSGML plone.app.event//EN
X-WR-TIMEZONE:Europe/Madrid
BEGIN:VEVENT
SUMMARY:Recital Claudi Arimany
DTSTART;TZID=Europe/Madrid;VALUE=DATE-TIME:20060610T220000
DTEND;TZID=Europe/Madrid;VALUE=DATE-TIME:20060610T230000
DTSTAMP;VALUE=DATE-TIME:20260420T152854Z
UID:39319055454cfa779717e2941a7e279b
CREATED;VALUE=DATE-TIME:20060610T000000Z
CATEGORIES:Música
LOCATION:a l'Església Parroquial de Sant Vicenç de Montalt
ORGANIZER:Ajuntaments d'Arenys de Mar, Arenys de Munt, Caldes d'Estrac, Canet de Mar, Sant Andreu de Llavaneres, Sant Cebrià de Vallalta, Sant Iscle de Vallalta, Sant Pol de Mar i Sant Vicenç de Montalt
COMMENT:Preu: 7 &euro;
URL:https://arenysdemar.cat/document.php?id=16038
END:VEVENT
END:VCALENDAR