BEGIN:VCALENDAR
VERSION:2.0
PRODID:-//Plone.org//NONSGML plone.app.event//EN
X-WR-TIMEZONE:Europe/Madrid
BEGIN:VEVENT
SUMMARY:XXI Festival de patinatge
DTSTART;TZID=Europe/Madrid;VALUE=DATE-TIME:20060701T210000
DTEND;TZID=Europe/Madrid;VALUE=DATE-TIME:20060701T220000
DTSTAMP;VALUE=DATE-TIME:20260424T043228Z
UID:356cecff5c40cd49f2133115ff417a7e
CREATED;VALUE=DATE-TIME:20060701T000000Z
CATEGORIES:Esports
LOCATION:CE Fondo de les Creus
ORGANIZER:Club Patinatge Artístic Arenys de Mar
URL:https://arenysdemar.cat/document.php?id=16104
END:VEVENT
END:VCALENDAR