BEGIN:VCALENDAR
VERSION:2.0
PRODID:-//Plone.org//NONSGML plone.app.event//EN
X-WR-TIMEZONE:Europe/Madrid
BEGIN:VEVENT
SUMMARY:II Petit Mercat de Material i Estris de Pesca Usats
DTSTART;TZID=Europe/Madrid;VALUE=DATE-TIME:20060702T090000
DTEND;TZID=Europe/Madrid;VALUE=DATE-TIME:20060702T100000
DTSTAMP;VALUE=DATE-TIME:20260420T165521Z
UID:60cdb9eb10669d82463f39c2a10c9013
CREATED;VALUE=DATE-TIME:20060702T000000Z
CATEGORIES:Esports,Exposició
LOCATION:Club Pesca Mar - Sport
ORGANIZER:Club Pesca Mar - Sport
URL:https://arenysdemar.cat/document.php?id=16110
END:VEVENT
END:VCALENDAR