BEGIN:VCALENDAR
VERSION:2.0
PRODID:-//Plone.org//NONSGML plone.app.event//EN
X-WR-TIMEZONE:Europe/Madrid
BEGIN:VEVENT
SUMMARY:Torneig Partides Ràpides d'Escacs
DTSTART;TZID=Europe/Madrid;VALUE=DATE-TIME:20060709T100000
DTEND;TZID=Europe/Madrid;VALUE=DATE-TIME:20060709T110000
DTSTAMP;VALUE=DATE-TIME:20260419T183601Z
UID:0894af805f3dce9ae0173f54cbc58ce3
CREATED;VALUE=DATE-TIME:20060709T000000Z
CATEGORIES:Esports
LOCATION:Ateneu Arenyenc
ORGANIZER:Ateneu Arenyenc
URL:https://arenysdemar.cat/document.php?id=16119
END:VEVENT
END:VCALENDAR