BEGIN:VCALENDAR
VERSION:2.0
PRODID:-//Plone.org//NONSGML plone.app.event//EN
X-WR-TIMEZONE:Europe/Madrid
BEGIN:VEVENT
SUMMARY:Tertúlia literària de novel·la: La maternitat d'Elna, d'Assumpció Montellà
DTSTART;TZID=Europe/Madrid;VALUE=DATE-TIME:20060619T190000
DTEND;TZID=Europe/Madrid;VALUE=DATE-TIME:20060619T200000
DTSTAMP;VALUE=DATE-TIME:20260424T130726Z
UID:c7f29d9f3aefdf6fba26c840556f1271
CREATED;VALUE=DATE-TIME:20060619T000000Z
CATEGORIES:Literatura
LOCATION:Biblioteca
ORGANIZER:Biblioteca-Regidoria de Cultura i Associació de Dones per a la Igualtat
DESCRIPTION:a càrrec de Teresa Verdura, amb la presència de l'autora
URL:https://arenysdemar.cat/document.php?id=16139
END:VEVENT
END:VCALENDAR