BEGIN:VCALENDAR
VERSION:2.0
PRODID:-//Plone.org//NONSGML plone.app.event//EN
X-WR-TIMEZONE:Europe/Madrid
BEGIN:VEVENT
SUMMARY:Internet i els infants
DTSTART;TZID=Europe/Madrid;VALUE=DATE-TIME:20060701T100000
DTEND;TZID=Europe/Madrid;VALUE=DATE-TIME:20060701T110000
DTSTAMP;VALUE=DATE-TIME:20260420T104502Z
UID:2cf08a793b892af6bf0ab8cb57673e52
CREATED;VALUE=DATE-TIME:20060701T000000Z
CATEGORIES:Cursos
LOCATION:Calisay/Sala J.M. Arnau
ORGANIZER:Universitat d'Estiu Ramon Llull, Arenys.org i Ajuntament d'Arenys de Mar
DESCRIPTION:Universitat d'Estiu Ramon Llull
URL:https://arenysdemar.cat/document.php?id=16165
END:VEVENT
END:VCALENDAR