BEGIN:VCALENDAR
VERSION:2.0
PRODID:-//Plone.org//NONSGML plone.app.event//EN
X-WR-TIMEZONE:Europe/Madrid
BEGIN:VEVENT
SUMMARY:Concert de cant coral
DTSTART;TZID=Europe/Madrid;VALUE=DATE-TIME:20060714T210000
DTEND;TZID=Europe/Madrid;VALUE=DATE-TIME:20060714T220000
DTSTAMP;VALUE=DATE-TIME:20260420T220957Z
UID:d41f27fbddc97267fa3a64edd7b6b964
CREATED;VALUE=DATE-TIME:20060714T000000Z
CATEGORIES:Música
LOCATION:Calisay/Sala J.M. Arnau
ORGANIZER:Regidoria de Cultura
DESCRIPTION:a càrrec de Caterham School Junior Choir
URL:https://arenysdemar.cat/document.php?id=16187
END:VEVENT
END:VCALENDAR