BEGIN:VCALENDAR
VERSION:2.0
PRODID:-//Plone.org//NONSGML plone.app.event//EN
X-WR-TIMEZONE:Europe/Madrid
BEGIN:VEVENT
SUMMARY:Concert de Banda
DTSTART;TZID=Europe/Madrid;VALUE=DATE-TIME:20060724T200000
DTEND;TZID=Europe/Madrid;VALUE=DATE-TIME:20060724T210000
DTSTAMP;VALUE=DATE-TIME:20260424T054512Z
UID:8b312b99b3641cf13140200169ba0b6a
CREATED;VALUE=DATE-TIME:20060724T000000Z
CATEGORIES:Música
LOCATION:Calisay/Pati
ORGANIZER:Regidoria de Cultura
DESCRIPTION:a càrrec del grup Pontefract Music Center Band Profile
URL:https://arenysdemar.cat/document.php?id=16201
END:VEVENT
END:VCALENDAR