BEGIN:VCALENDAR
VERSION:2.0
PRODID:-//Plone.org//NONSGML plone.app.event//EN
X-WR-TIMEZONE:Europe/Madrid
BEGIN:VEVENT
SUMMARY:XXIV Aniversari Penya Blanc i Blava
DTSTART;TZID=Europe/Madrid;VALUE=DATE-TIME:20060701T210000
DTEND;TZID=Europe/Madrid;VALUE=DATE-TIME:20060701T220000
DTSTAMP;VALUE=DATE-TIME:20260421T200613Z
UID:22843e26ae031e1a43128f27e2741804
CREATED;VALUE=DATE-TIME:20060701T000000Z
CATEGORIES:Esports
LOCATION:Pòsit de Pescadors d'Arenys de Mar
ORGANIZER:Penya Blanc Blava Arenys de Mar
COMMENT:Preu: 38 &euro;
Durada: Fins a les 12 de la nit
URL:https://arenysdemar.cat/document.php?id=16229
END:VEVENT
END:VCALENDAR