BEGIN:VCALENDAR
VERSION:2.0
PRODID:-//Plone.org//NONSGML plone.app.event//EN
X-WR-TIMEZONE:Europe/Madrid
BEGIN:VEVENT
SUMMARY:Teatre : Colossal
DTSTART;TZID=Europe/Madrid;VALUE=DATE-TIME:20061015T180000
DTEND;TZID=Europe/Madrid;VALUE=DATE-TIME:20061015T190000
DTSTAMP;VALUE=DATE-TIME:20260424T021107Z
UID:1b56ee656ff36d87bc9c8b4163100188
CREATED;VALUE=DATE-TIME:20061015T000000Z
CATEGORIES:Infantils
LOCATION:Teatre Principal
ORGANIZER:Teatre Principal-Regidoria de Cultura
COMMENT:Preu: 5 &euro;
DESCRIPTION:a càrrec de la Cia. Teatre Mòbil.
Vegeu programació

URL:https://arenysdemar.cat/document.php?id=16393
END:VEVENT
END:VCALENDAR