BEGIN:VCALENDAR
VERSION:2.0
PRODID:-//Plone.org//NONSGML plone.app.event//EN
X-WR-TIMEZONE:Europe/Madrid
BEGIN:VEVENT
SUMMARY:Teatre familiar : Les sabates noves de l'emperador
DTSTART;TZID=Europe/Madrid;VALUE=DATE-TIME:20061230T180000
DTEND;TZID=Europe/Madrid;VALUE=DATE-TIME:20061230T190000
DTSTAMP;VALUE=DATE-TIME:20260420T170442Z
UID:986f489c4e4111b28cbb28847666bcdf
CREATED;VALUE=DATE-TIME:20061230T000000Z
CATEGORIES:Infantils
LOCATION:Teatre Principal
ORGANIZER:Teatre Principal-Regidoria de Cultura
COMMENT:Preu: 5 &euro;
DESCRIPTION:a càrrec d'Anna Roca Cia. de Teatre.
Vegeu programació

URL:https://arenysdemar.cat/document.php?id=16404
END:VEVENT
END:VCALENDAR