BEGIN:VCALENDAR
VERSION:2.0
PRODID:-//Plone.org//NONSGML plone.app.event//EN
X-WR-TIMEZONE:Europe/Madrid
BEGIN:VEVENT
SUMMARY:Dijous sardanes
DTSTART;TZID=Europe/Madrid;VALUE=DATE-TIME:20060810T193000
DTEND;TZID=Europe/Madrid;VALUE=DATE-TIME:20060810T203000
DTSTAMP;VALUE=DATE-TIME:20260424T022152Z
UID:11b106f8fb1e66fbad42b4e8631f8fc4
CREATED;VALUE=DATE-TIME:20060810T000000Z
CATEGORIES:Dansa
LOCATION:Plaça de l'Església
ORGANIZER:Reg. de Cultura i Ateneu Arenyenc
DESCRIPTION:amb la Cobla Iluro
URL:https://arenysdemar.cat/document.php?id=16432
END:VEVENT
END:VCALENDAR