BEGIN:VCALENDAR
VERSION:2.0
PRODID:-//Plone.org//NONSGML plone.app.event//EN
X-WR-TIMEZONE:Europe/Madrid
BEGIN:VEVENT
SUMMARY:Música - Santa Cecília : El paisatge de l'ànima
DTSTART;TZID=Europe/Madrid;VALUE=DATE-TIME:20061124T220000
DTEND;TZID=Europe/Madrid;VALUE=DATE-TIME:20061124T230000
DTSTAMP;VALUE=DATE-TIME:20260424T020027Z
UID:e36ebbada9cb42ea088e07de40f0d8e2
CREATED;VALUE=DATE-TIME:20061124T000000Z
CATEGORIES:Música
LOCATION:Teatre Principal
ORGANIZER:Teatre Principal-Regidoria de Cultura
COMMENT:Preu: 5 &euro;
DESCRIPTION:a càrrec de Dídac Rocher.
Vegeu programació

URL:https://arenysdemar.cat/document.php?id=16435
END:VEVENT
END:VCALENDAR