BEGIN:VCALENDAR
VERSION:2.0
PRODID:-//Plone.org//NONSGML plone.app.event//EN
X-WR-TIMEZONE:Europe/Madrid
BEGIN:VEVENT
SUMMARY:Música - Santa Cecília : Passejada musical dels anys 60 fins l'actualitat
DTSTART;TZID=Europe/Madrid;VALUE=DATE-TIME:20061125T220000
DTEND;TZID=Europe/Madrid;VALUE=DATE-TIME:20061125T230000
DTSTAMP;VALUE=DATE-TIME:20260424T053321Z
UID:c29e0279926ef10841ea074716068ecb
CREATED;VALUE=DATE-TIME:20061125T000000Z
CATEGORIES:Música
LOCATION:Teatre Principal
ORGANIZER:Teatre Principal-Regidoria de Cultura
COMMENT:Preu: 5 &euro;
DESCRIPTION:a càrrec de Raquel Xiberta & Pep Romaguera.
Vegeu programació

URL:https://arenysdemar.cat/document.php?id=16436
END:VEVENT
END:VCALENDAR