BEGIN:VCALENDAR
VERSION:2.0
PRODID:-//Plone.org//NONSGML plone.app.event//EN
X-WR-TIMEZONE:Europe/Madrid
BEGIN:VEVENT
SUMMARY:Ball a l'Ateneu
DTSTART;TZID=Europe/Madrid;VALUE=DATE-TIME:20061202T223000
DTEND;TZID=Europe/Madrid;VALUE=DATE-TIME:20061202T233000
DTSTAMP;VALUE=DATE-TIME:20260423T150305Z
UID:c3483b367133e9e1e3cf97c38e29cc52
CREATED;VALUE=DATE-TIME:20061202T000000Z
CATEGORIES:Música
LOCATION:a l'Ateneu Arenyenc
ORGANIZER:Ateneu Arenyenc
DESCRIPTION:amb el grup Millennium Tercet
URL:https://arenysdemar.cat/document.php?id=16551
END:VEVENT
END:VCALENDAR