BEGIN:VCALENDAR
VERSION:2.0
PRODID:-//Plone.org//NONSGML plone.app.event//EN
X-WR-TIMEZONE:Europe/Madrid
BEGIN:VEVENT
SUMMARY:FUM - Festival d'Universos Musicals (Cinema)
DTSTART;TZID=Europe/Madrid;VALUE=DATE-TIME:20061022T180000
DTEND;TZID=Europe/Madrid;VALUE=DATE-TIME:20061022T190000
DTSTAMP;VALUE=DATE-TIME:20260424T033951Z
UID:8d2fbbca2935eac748257acceda9e64a
CREATED;VALUE=DATE-TIME:20061022T000000Z
CATEGORIES:Cinema,Música,Conferència
LOCATION:Cines Arenys
ORGANIZER:Transports Ciberians
COMMENT:Preu: 5,8 &euro;
Durada: També els dies 20 i 21 d'octubre de 2006
DESCRIPTION:La leyenda del tiempo d'Isaki Lacuesta i Llach, la revolta permanent de Lluís Danés
URL:https://arenysdemar.cat/document.php?id=16565
END:VEVENT
END:VCALENDAR