BEGIN:VCALENDAR
VERSION:2.0
PRODID:-//Plone.org//NONSGML plone.app.event//EN
X-WR-TIMEZONE:Europe/Madrid
BEGIN:VEVENT
SUMMARY:Setmana de la Ciència 2006
DTSTART;TZID=Europe/Madrid;VALUE=DATE-TIME:20061112T000000
DTEND;TZID=Europe/Madrid;VALUE=DATE-TIME:20061112T010000
DTSTAMP;VALUE=DATE-TIME:20260423T195902Z
UID:1bb0bf8f7ea3e740025993ab4c91096b
CREATED;VALUE=DATE-TIME:20061112T000000Z
CATEGORIES:Mostra
LOCATION:Museu Mineralogia
ORGANIZER:Museu d'Arenys de Mar
COMMENT:Preu: Gratuït
Durada: També el diumenge 19 de novembre
DESCRIPTION:Jornada de portes obertes al Museu Mollfulleda de Mineralogia
URL:https://arenysdemar.cat/document.php?id=16618
END:VEVENT
END:VCALENDAR