BEGIN:VCALENDAR
VERSION:2.0
PRODID:-//Plone.org//NONSGML plone.app.event//EN
X-WR-TIMEZONE:Europe/Madrid
BEGIN:VEVENT
SUMMARY:Homenatge al Pare Ireneu Segarra
DTSTART;TZID=Europe/Madrid;VALUE=DATE-TIME:20061122T190000
DTEND;TZID=Europe/Madrid;VALUE=DATE-TIME:20061122T200000
DTSTAMP;VALUE=DATE-TIME:20260423T164406Z
UID:b828f66ed66b3789599c994a73590d86
CREATED;VALUE=DATE-TIME:20061122T000000Z
CATEGORIES:Música,Conferència
LOCATION:Calisay/Sala J.M. Arnau
ORGANIZER:Escola de Música Carles G. Vidiella i Centre d'Estudis J. Baralt
COMMENT:Preu: gratuït
URL:https://arenysdemar.cat/document.php?id=16665
END:VEVENT
END:VCALENDAR