BEGIN:VCALENDAR
VERSION:2.0
PRODID:-//Plone.org//NONSGML plone.app.event//EN
X-WR-TIMEZONE:Europe/Madrid
BEGIN:VEVENT
SUMMARY:Obertes les inscripcions pel curs de pre-monitor
DTSTART;TZID=Europe/Madrid;VALUE=DATE-TIME:20061201T000000
DTEND;TZID=Europe/Madrid;VALUE=DATE-TIME:20061201T010000
DTSTAMP;VALUE=DATE-TIME:20260421T004653Z
UID:288fcb39b7bf572d71c650bfe5027f73
CREATED;VALUE=DATE-TIME:20061201T000000Z
CATEGORIES:Cursos
LOCATION:Calisay/SIJ
ORGANIZER:Regidoria de Joventut
COMMENT:Preu: Gratuït per a joves de 16 a 18 anys
DESCRIPTION:Pre-monitor del lleure infantil i juvenil
URL:https://arenysdemar.cat/document.php?id=16666
END:VEVENT
END:VCALENDAR