BEGIN:VCALENDAR
VERSION:2.0
PRODID:-//Plone.org//NONSGML plone.app.event//EN
X-WR-TIMEZONE:Europe/Madrid
BEGIN:VEVENT
SUMMARY:Taller de cuina vegetariana per a tothom
DTSTART;TZID=Europe/Madrid;VALUE=DATE-TIME:20061125T110000
DTEND;TZID=Europe/Madrid;VALUE=DATE-TIME:20061125T120000
DTSTAMP;VALUE=DATE-TIME:20260424T053403Z
UID:8a22c77ca49432067608d94196c9ab0f
CREATED;VALUE=DATE-TIME:20061125T000000Z
LOCATION:El Pot Petit (Rial de Sa Clavella, 19)
ORGANIZER:El Pot Petit
COMMENT:Preu: Gratuït
Durada: Fins a les 14.00 hores
URL:https://arenysdemar.cat/document.php?id=16669
END:VEVENT
END:VCALENDAR