BEGIN:VCALENDAR
VERSION:2.0
PRODID:-//Plone.org//NONSGML plone.app.event//EN
X-WR-TIMEZONE:Europe/Madrid
BEGIN:VEVENT
SUMMARY:Tertúlia literària de novel·la:
DTSTART;TZID=Europe/Madrid;VALUE=DATE-TIME:20061204T190000
DTEND;TZID=Europe/Madrid;VALUE=DATE-TIME:20061204T200000
DTSTAMP;VALUE=DATE-TIME:20260420T120835Z
UID:4ef429be8c96a617a72145953ea74e0e
CREATED;VALUE=DATE-TIME:20061204T000000Z
CATEGORIES:Literatura
LOCATION:Biblioteca
ORGANIZER:Biblioteca - Regidoria de Cultura
DESCRIPTION:La ciudad de los prodigios d'Eduardo Mendoza a càrrec d'Enric Agustí i Fabré, amb la presència de l'autor
URL:https://arenysdemar.cat/document.php?id=16696
END:VEVENT
END:VCALENDAR