BEGIN:VCALENDAR
VERSION:2.0
PRODID:-//Plone.org//NONSGML plone.app.event//EN
X-WR-TIMEZONE:Europe/Madrid
BEGIN:VEVENT
SUMMARY:Berenar Diada Gent Gran
DTSTART;TZID=Europe/Madrid;VALUE=DATE-TIME:20061116T173000
DTEND;TZID=Europe/Madrid;VALUE=DATE-TIME:20061116T183000
DTSTAMP;VALUE=DATE-TIME:20260420T221045Z
UID:8cc496ff135571a695ddc4521aca129b
CREATED;VALUE=DATE-TIME:20061116T000000Z
CATEGORIES:Festa,Música
LOCATION:Calisay/Sala Polivalent
ORGANIZER:Esplai Gent Gran, Vocalia de Jubilats i Regidoria de Benestar i Família
COMMENT:Preu: 1 &euro;. Venda d'entrades dies 6 i 7 de novembre a la Sala de les Bótes del Calisay d'11 a 13 h.
DESCRIPTION:amb l'Orquestra Millennium
URL:https://arenysdemar.cat/document.php?id=16711
END:VEVENT
END:VCALENDAR