BEGIN:VCALENDAR
VERSION:2.0
PRODID:-//Plone.org//NONSGML plone.app.event//EN
X-WR-TIMEZONE:Europe/Madrid
BEGIN:VEVENT
SUMMARY:Recollida d'ampolles de cava
DTSTART;TZID=Europe/Madrid;VALUE=DATE-TIME:20070114T100000
DTEND;TZID=Europe/Madrid;VALUE=DATE-TIME:20070114T110000
DTSTAMP;VALUE=DATE-TIME:20260424T195905Z
UID:6ac14c5a7991c799160d26fb5ba15192
CREATED;VALUE=DATE-TIME:20070114T000000Z
CATEGORIES:Festa
LOCATION:Riera
ORGANIZER:AEG Flos i Calcat
URL:https://arenysdemar.cat/document.php?id=16719
END:VEVENT
END:VCALENDAR