BEGIN:VCALENDAR
VERSION:2.0
PRODID:-//Plone.org//NONSGML plone.app.event//EN
X-WR-TIMEZONE:Europe/Madrid
BEGIN:VEVENT
SUMMARY:Arribada de Ses Majestats els Reis de l'Orient
DTSTART;TZID=Europe/Madrid;VALUE=DATE-TIME:20070105T180000
DTEND;TZID=Europe/Madrid;VALUE=DATE-TIME:20070105T190000
DTSTAMP;VALUE=DATE-TIME:20260423T194944Z
UID:251523b912acb43c52d17896a7d3a618
CREATED;VALUE=DATE-TIME:20070105T000000Z
CATEGORIES:Festa,Infantils
LOCATION:Part alta de la Riera
ORGANIZER:Regidoria de Cultura i
OCR

URL:https://arenysdemar.cat/document.php?id=16729
END:VEVENT
END:VCALENDAR