BEGIN:VCALENDAR
VERSION:2.0
PRODID:-//Plone.org//NONSGML plone.app.event//EN
X-WR-TIMEZONE:Europe/Madrid
BEGIN:VEVENT
SUMMARY:Ball a l'Ateneu
DTSTART;TZID=Europe/Madrid;VALUE=DATE-TIME:20070113T223000
DTEND;TZID=Europe/Madrid;VALUE=DATE-TIME:20070113T233000
DTSTAMP;VALUE=DATE-TIME:20260424T182810Z
UID:707ded42edd01e7865d1d744d8e44a7b
CREATED;VALUE=DATE-TIME:20070113T000000Z
CATEGORIES:Festa,Música
LOCATION:a l'Ateneu Arenyenc
ORGANIZER:Ateneu Arenyenc
DESCRIPTION:a càrrec del grup La Petita Paradís
URL:https://arenysdemar.cat/document.php?id=16761
END:VEVENT
END:VCALENDAR