BEGIN:VCALENDAR
VERSION:2.0
PRODID:-//Plone.org//NONSGML plone.app.event//EN
X-WR-TIMEZONE:Europe/Madrid
BEGIN:VEVENT
SUMMARY:Concert de Nadal
DTSTART;TZID=Europe/Madrid;VALUE=DATE-TIME:20061216T213000
DTEND;TZID=Europe/Madrid;VALUE=DATE-TIME:20061216T223000
DTSTAMP;VALUE=DATE-TIME:20260423T164421Z
UID:c0b2c4c4af9ded8e5a58e28c4acf22ed
CREATED;VALUE=DATE-TIME:20061216T000000Z
CATEGORIES:Música
LOCATION:Església de Santa Maria
ORGANIZER:Societat Coral l'Esperança
COMMENT:Preu: Gratuït
URL:https://arenysdemar.cat/document.php?id=16775
END:VEVENT
END:VCALENDAR