BEGIN:VCALENDAR
VERSION:2.0
PRODID:-//Plone.org//NONSGML plone.app.event//EN
X-WR-TIMEZONE:Europe/Madrid
BEGIN:VEVENT
SUMMARY:Curs de manipulació d'aliments
DTSTART;TZID=Europe/Madrid;VALUE=DATE-TIME:20061227T160000
DTEND;TZID=Europe/Madrid;VALUE=DATE-TIME:20061227T170000
DTSTAMP;VALUE=DATE-TIME:20260423T145238Z
UID:fde7d5ce591a435da17b833975f3a7e9
CREATED;VALUE=DATE-TIME:20061227T000000Z
CATEGORIES:Cursos
LOCATION:Edifici Calisay. Riera Pare Fita, 31, 2a planta
ORGANIZER:Regidoria de Promoció Econòmica
COMMENT:Preu: 35-44&euro; (segons les incripcions)
Durada: Fins a les 21.00 hores
URL:https://arenysdemar.cat/document.php?id=16778
END:VEVENT
END:VCALENDAR