BEGIN:VCALENDAR
VERSION:2.0
PRODID:-//Plone.org//NONSGML plone.app.event//EN
X-WR-TIMEZONE:Europe/Madrid
BEGIN:VEVENT
SUMMARY:Audicions i Mostres de Nadal
DTSTART;TZID=Europe/Madrid;VALUE=DATE-TIME:20061212T200000
DTEND;TZID=Europe/Madrid;VALUE=DATE-TIME:20061212T210000
DTSTAMP;VALUE=DATE-TIME:20260424T024224Z
UID:e6e0fc6d7dc1a7070ffcfb0c06e70170
CREATED;VALUE=DATE-TIME:20061212T000000Z
CATEGORIES:Música
LOCATION:Calisay/Sala J.M. Arnau
ORGANIZER:Escola Municipal de Música Carles G. Vidiella
COMMENT:Preu: Gratuït
DESCRIPTION:Audició d'alumnes de corda fregada, guitarra elèctrica, flauta travessera, trompeta i Banda de l'Escola
URL:https://arenysdemar.cat/document.php?id=16833
END:VEVENT
END:VCALENDAR