BEGIN:VCALENDAR
VERSION:2.0
PRODID:-//Plone.org//NONSGML plone.app.event//EN
X-WR-TIMEZONE:Europe/Madrid
BEGIN:VEVENT
SUMMARY:Audicions i Mostres de Nadal
DTSTART;TZID=Europe/Madrid;VALUE=DATE-TIME:20061220T190000
DTEND;TZID=Europe/Madrid;VALUE=DATE-TIME:20061220T200000
DTSTAMP;VALUE=DATE-TIME:20260420T152640Z
UID:1fd7c1131c0f9b5cabe59632a39bf9b0
CREATED;VALUE=DATE-TIME:20061220T000000Z
CATEGORIES:Música
LOCATION:Calisay/Sala J.M. Arnau
ORGANIZER:Escola Municipal de Música Carles G. Vidiella
COMMENT:Preu: Gratuït
DESCRIPTION:Audició d'alumnes dels grups de fi de grau
URL:https://arenysdemar.cat/document.php?id=16837
END:VEVENT
END:VCALENDAR