BEGIN:VCALENDAR
VERSION:2.0
PRODID:-//Plone.org//NONSGML plone.app.event//EN
X-WR-TIMEZONE:Europe/Madrid
BEGIN:VEVENT
SUMMARY:Audicions i Mostres de Nadal
DTSTART;TZID=Europe/Madrid;VALUE=DATE-TIME:20061220T200000
DTEND;TZID=Europe/Madrid;VALUE=DATE-TIME:20061220T210000
DTSTAMP;VALUE=DATE-TIME:20260423T214847Z
UID:d3fd694ba63a558630c580bcfd2c9822
CREATED;VALUE=DATE-TIME:20061220T000000Z
CATEGORIES:Música
LOCATION:Calisay/Escola de música
ORGANIZER:Escola Municipal de Música Carles G. Vidiella
COMMENT:Preu: Gratuït
DESCRIPTION:Audició d'alumnes de piano
URL:https://arenysdemar.cat/document.php?id=16838
END:VEVENT
END:VCALENDAR