BEGIN:VCALENDAR
VERSION:2.0
PRODID:-//Plone.org//NONSGML plone.app.event//EN
X-WR-TIMEZONE:Europe/Madrid
BEGIN:VEVENT
SUMMARY:Audicions i Mostres de Nadal
DTSTART;TZID=Europe/Madrid;VALUE=DATE-TIME:20061221T180000
DTEND;TZID=Europe/Madrid;VALUE=DATE-TIME:20061221T190000
DTSTAMP;VALUE=DATE-TIME:20260421T011602Z
UID:b7991d21787c019ff055a0b48a1e134c
CREATED;VALUE=DATE-TIME:20061221T000000Z
CATEGORIES:Música
LOCATION:Calisay/Sala Noble
ORGANIZER:Escola Municipal de Música Carles G. Vidiella
COMMENT:Preu: Gratuït
DESCRIPTION:Audició d'alumnes de cant coral de 3r i 4t, grup de llenguatge de 1r i alumnes de piano.
URL:https://arenysdemar.cat/document.php?id=16839
END:VEVENT
END:VCALENDAR