BEGIN:VCALENDAR
VERSION:2.0
PRODID:-//Plone.org//NONSGML plone.app.event//EN
X-WR-TIMEZONE:Europe/Madrid
BEGIN:VEVENT
SUMMARY:Conferència
DTSTART;TZID=Europe/Madrid;VALUE=DATE-TIME:20070217T190000
DTEND;TZID=Europe/Madrid;VALUE=DATE-TIME:20070217T200000
DTSTAMP;VALUE=DATE-TIME:20260424T022719Z
UID:74879447e57b03ceb747131763f73b9d
CREATED;VALUE=DATE-TIME:20070217T000000Z
CATEGORIES:Conferència
LOCATION:Calisay/Sala Noble
ORGANIZER:Plataforma per la Llengua del Maresme
COMMENT:Preu: Gratuït
DESCRIPTION:Què faig si...?
URL:https://arenysdemar.cat/document.php?id=16896
END:VEVENT
END:VCALENDAR