BEGIN:VCALENDAR
VERSION:2.0
PRODID:-//Plone.org//NONSGML plone.app.event//EN
X-WR-TIMEZONE:Europe/Madrid
BEGIN:VEVENT
SUMMARY:35è Concurs de Grups de Teatre Amateur "Premi Vila d'Arenys de Mar"
DTSTART;TZID=Europe/Madrid;VALUE=DATE-TIME:20070318T181500
DTEND;TZID=Europe/Madrid;VALUE=DATE-TIME:20070318T191500
DTSTAMP;VALUE=DATE-TIME:20260420T202911Z
UID:686848e22654604691ac93df6d3244a4
CREATED;VALUE=DATE-TIME:20070318T000000Z
CATEGORIES:Teatre
LOCATION:Teatre dels Seràfics
ORGANIZER:Grup Artístic Carles Xena i Regidoria de Cultura
COMMENT:Preu: 6&euro; no socis 5&euro; socis 1&euro; estudiants
DESCRIPTION:Un marit ideal, d´Oscar Wilde a càrrec de Grup &OpenCurlyDoubleQuote;El Rossegall&CloseCurlyDoubleQuote; de Vilanova i la Geltrú
URL:https://arenysdemar.cat/document.php?id=16901
END:VEVENT
END:VCALENDAR