BEGIN:VCALENDAR
VERSION:2.0
PRODID:-//Plone.org//NONSGML plone.app.event//EN
X-WR-TIMEZONE:Europe/Madrid
BEGIN:VEVENT
SUMMARY:Elecció arenyenc de l'any 2006
DTSTART;TZID=Europe/Madrid;VALUE=DATE-TIME:20070217T000000
DTEND;TZID=Europe/Madrid;VALUE=DATE-TIME:20070217T010000
DTSTAMP;VALUE=DATE-TIME:20260420T183816Z
UID:2858c598ce39821d67d388e2daef962d
CREATED;VALUE=DATE-TIME:20070217T000000Z
CATEGORIES:Festa
LOCATION:Plaça de l'Església
ORGANIZER:L'AIA
COMMENT:Durada: Tot el dia
URL:https://arenysdemar.cat/document.php?id=17023
END:VEVENT
END:VCALENDAR