BEGIN:VCALENDAR
VERSION:2.0
PRODID:-//Plone.org//NONSGML plone.app.event//EN
X-WR-TIMEZONE:Europe/Madrid
BEGIN:VEVENT
SUMMARY:Concert de cant coral
DTSTART;TZID=Europe/Madrid;VALUE=DATE-TIME:20070630T220000
DTEND;TZID=Europe/Madrid;VALUE=DATE-TIME:20070630T230000
DTSTAMP;VALUE=DATE-TIME:20260421T232730Z
UID:f116b6e89edc7b961f97b83d7e5cfc6e
CREATED;VALUE=DATE-TIME:20070630T000000Z
CATEGORIES:Música
LOCATION:Església de Santa Maria
ORGANIZER:Cor l'Aixa
DESCRIPTION:Estimat segle XX
URL:https://arenysdemar.cat/document.php?id=17060
END:VEVENT
END:VCALENDAR